BEGIN:VCALENDAR
VERSION:2.0
METHOD:PUBLISH
BEGIN:VEVENT
UID:WILD_APRICOT_EVENT_3748100_SESSION_1
DTSTART:20200222T070000Z
DTEND:20200222T100000Z
SUMMARY:PSOA Social Meeting - February
LOCATION:Parrot Supplies Australia\, 2/5 Westerway Street\, Slacks Creek\, QLD\, 4127
DESCRIPTION:https://www.parrotsociety.org.au/event-3748100\n\nThe February social meeting will be on Saturday 22nd February 2020\, and will include our Annual General Meeting and General Meeting. \n  Presentation - Kerrie Rubie from Aratinga Aviaries on "The Highs and Lows of Hand Raising Macaws"\n  Please join us at Parrot Supplies Australia in Slacks Creek from 5pm for the meeting. The store will be open from 9am on the day. There will also be Raffles and a Lucky Door Prize. \n  We will include light refreshments and a BBQ. \n  For more information about our PSOA Social Meetings\, please contact Chris Jaffrey on 07 3208 5610 ext. 3 or E-Mail by clicking the below link:\n  E-Mail Chris Jaffrey\n\n
DTSTAMP:20260424T161250Z
END:VEVENT
END:VCALENDAR
