BEGIN:VCALENDAR
VERSION:2.0
METHOD:PUBLISH
BEGIN:VEVENT
UID:WILD_APRICOT_EVENT_3748087_SESSION_1
DTSTART:20201212T070000Z
DTEND:20201212T100000Z
SUMMARY:PSOA Christmas Social Meeting - December
LOCATION:Parrot Supplies Australia\, 2/5 Westerway Street\, Slacks Creek\, QLD\, 4127
DESCRIPTION:https://www.parrotsociety.org.au/event-3748087\n\nIMPORTANT MESSAGE\n\n  This Event may be postponed due to the COVID-19 situation and Federal Government directions. All meetings up until the end of July have currently been cancelled or postponed. If you have any questions\, please click below:\n  Contact Us\n\n  \n\n  The December social meeting will be on Saturday 19th December 2020\, and include our General Meeting. We also have a bit of a Christmas Party too!\n  Presentation - TBC\n  Please join us at Parrot Supplies Australia in Slacks Creek from 5pm for the meeting. The store will be open from 9am on the day. There will also be Raffles and a Lucky Door Prize. \n  We will include light refreshments and a BBQ. \n  For more information about our PSOA Social Meetings\, please contact Chris Jaffrey on 07 3208 5610 ext. 3 or E-Mail by clicking the below link:\n  E-Mail Chris Jaffrey\n\n
DTSTAMP:20260424T163506Z
END:VEVENT
END:VCALENDAR
