BEGIN:VCALENDAR
VERSION:2.0
METHOD:PUBLISH
BEGIN:VEVENT
UID:WILD_APRICOT_EVENT_3748079_SESSION_1
DTSTART:20200815T063000Z
DTEND:20200815T093000Z
SUMMARY:PSOA Social Meeting - August
LOCATION:Parrot Supplies Australia\, 2/5 Westerway Street\, Slacks Creek\, QLD\, 4127
DESCRIPTION:https://www.parrotsociety.org.au/event-3748079\n\nIMPORTANT MESSAGE\n\n  This Event may be postponed due to the COVID-19 situation and Federal Government directions. All meetings up until the end of July have currently been cancelled or postponed. If you have any questions\, please click below:\n  Contact Us\n\n  -END OF MESSAGE-\n  The August social meeting will be on Saturday 15th August 2020\, and include our General Meeting. \n  Presentation - TBC\n  Please join us at Parrot Supplies Australia in Slacks Creek from 3pm for the meeting. The store will be open from 9am on the day. There will also be Raffles and a Lucky Door Prize. \n  We will include light refreshments and a BBQ. \n  For more information about our PSOA Social Meetings\, please contact Chris Jaffrey on 07 3208 5610 ext. 3 or E-Mail by clicking the below link:\n  E-Mail Chris Jaffrey\n\n
DTSTAMP:20260424T163518Z
END:VEVENT
END:VCALENDAR
