BEGIN:VCALENDAR
VERSION:2.0
METHOD:PUBLISH
BEGIN:VEVENT
UID:WILD_APRICOT_EVENT_3748072_SESSION_1
DTSTART:20200318T070000Z
DTEND:20200318T100000Z
SUMMARY:PSOA Social Meeting - March
LOCATION:Parrot Supplies Australia\, 2/5 Westerway Street\, Slacks Creek\, QLD\, 4127
DESCRIPTION:https://www.parrotsociety.org.au/event-3748072\n\nThe March social meeting will be on Wednesday 18th March 2020\, and is a new mid-week Member gathering. \n  Presentation - TBC\n  Please join us at Parrot Supplies Australia in Slacks Creek from 5pm for the meeting. The store will be open from 9am on the day. There will also be Raffles and a Lucky Door Prize. \n  We will include light refreshments and a BBQ. \n  For more information about our PSOA Social Meetings\, please contact Chris Jaffrey on 07 3208 5610 ext. 3 or E-Mail by clicking the below link:\n  E-Mail Chris Jaffrey\n\n
DTSTAMP:20260424T161212Z
END:VEVENT
END:VCALENDAR
