BEGIN:VCALENDAR
VERSION:2.0
METHOD:PUBLISH
BEGIN:VEVENT
UID:WILD_APRICOT_EVENT_3325133_SESSION_1
DTSTART:20200703T063000Z
DTEND:20200705T070000Z
SUMMARY:International Parrots 2020 Convention
LOCATION:Kedron-Wavell Services Club\, 21 Kittyhawk Drive\, Chermside\, QLD\, 4032\, AUSTRALIA
DESCRIPTION:https://www.parrotsociety.org.au/event-3325133\n\nIMPORTANT MESSAGE\n\n  This Event has been postponed due to the COVID-19 situation and Federal Government directions. If you have purchased a ticket\, the PSOA Treasurer will be in contact in due course. \n  -END OF MESSAGE-\n  \n\n  Welcome to the International Parrots 2020 registration area!\n  We have lay-by options available for all tickets. To enquire about those\, click below to get in touch with our Treasurer & Events Coordinator.\n  Contact for Lay-By Options\n\n  The Full Parrots 2020 Registration includes:\n      *             Friday evening social - "An Evening with Randy Berry" with canapés        \n\n        *             Saturday seminars - includes morning tea\, lunch\, & afternoon tea        \n\n        *             Saturday evening Conservation Dinner        \n\n        *             Sunday seminars - includes morning tea\, lunch\, & afternoon tea        \n\n   Optional extras are available\, currently including the Aviary Tour and Step-Up!. You must be registered as a Full Delegate to attend these events. \n  Another extra is our 'Evening with Randy Berry'. A Full Registration ticket will include this amazing experience as part of that ticket price!\n  If you just want to attend this incredible evening\, but not the rest of the Convention\, you must be a Member of a selected Softbill\, Finch\, or Wildfowl association who have been provided with a code to register. \n  Randy will be providing an insight into his Softbill collection\, with a massive array of birds (approximately 150 different species!). This will be an exceptional evening of information sharing\, networking\, and learning. \n  For more information\, please check out our International Parrots 2020 Convention information page:\n  International Parrots 2020 Convention\n
DTSTAMP:20260424T180423Z
END:VEVENT
END:VCALENDAR
